Package: SPIAT Version: 1.6.2 Command: chmod a+r SPIAT -R && E:\biocbuild\bbs-3.19-bioc\R\bin\R.exe CMD build --keep-empty-dirs --no-resave-data SPIAT StartedAt: 2024-10-16 22:08:14 -0400 (Wed, 16 Oct 2024) EndedAt: 2024-10-16 22:12:33 -0400 (Wed, 16 Oct 2024) EllapsedTime: 258.9 seconds RetCode: 0 Status: OK PackageFile: SPIAT_1.6.2.tar.gz PackageFileSize: 4.475 MiB