Package: SPIAT Version: 1.6.2 Command: rm -rf SPIAT.buildbin-libdir && mkdir SPIAT.buildbin-libdir && E:\biocbuild\bbs-3.19-bioc\R\bin\R.exe CMD INSTALL --build --library=SPIAT.buildbin-libdir SPIAT_1.6.2.tar.gz StartedAt: 2024-10-17 08:42:38 -0400 (Thu, 17 Oct 2024) EndedAt: 2024-10-17 08:43:24 -0400 (Thu, 17 Oct 2024) EllapsedTime: 45.3 seconds RetCode: 0 Status: OK PackageFile: SPIAT_1.6.2.zip PackageFileSize: 4.211 MiB