Package: SPIAT Version: 1.6.1 Command: F:\biocbuild\bbs-3.19-bioc\R\bin\R.exe CMD INSTALL SPIAT StartedAt: 2024-06-26 16:01:40 -0400 (Wed, 26 Jun 2024) EndedAt: 2024-06-26 16:02:37 -0400 (Wed, 26 Jun 2024) EllapsedTime: 56.8 seconds RetCode: 0 Status: OK