Package: SPIAT Version: 1.6.1 Command: F:\biocbuild\bbs-3.19-bioc\R\bin\R.exe CMD check --no-multiarch --install=check:SPIAT.install-out.txt --library=F:\biocbuild\bbs-3.19-bioc\R\library --no-vignettes --timings SPIAT_1.6.1.tar.gz StartedAt: 2024-06-27 06:30:14 -0400 (Thu, 27 Jun 2024) EndedAt: 2024-06-27 06:37:07 -0400 (Thu, 27 Jun 2024) EllapsedTime: 412.4 seconds RetCode: 0 Status: OK CheckDir: SPIAT.Rcheck Warnings: 0