Package: SPIAT Version: 1.6.1 Command: rm -rf SPIAT.buildbin-libdir && mkdir SPIAT.buildbin-libdir && F:\biocbuild\bbs-3.19-bioc\R\bin\R.exe CMD INSTALL --build --library=SPIAT.buildbin-libdir SPIAT_1.6.1.tar.gz StartedAt: 2024-06-27 08:58:59 -0400 (Thu, 27 Jun 2024) EndedAt: 2024-06-27 08:59:42 -0400 (Thu, 27 Jun 2024) EllapsedTime: 43.0 seconds RetCode: 0 Status: OK PackageFile: SPIAT_1.6.1.zip PackageFileSize: 4.211 MiB