Package: SPIAT Version: 1.6.2 Command: /home/biocbuild/bbs-3.19-bioc/R/bin/R CMD INSTALL SPIAT StartedAt: 2024-10-16 16:03:40 -0400 (Wed, 16 Oct 2024) EndedAt: 2024-10-16 16:04:08 -0400 (Wed, 16 Oct 2024) EllapsedTime: 27.7 seconds RetCode: 0 Status: OK