Package: SPIAT Version: 1.6.2 Command: /home/biocbuild/bbs-3.19-bioc/R/bin/R CMD build --keep-empty-dirs --no-resave-data SPIAT StartedAt: 2024-10-16 20:59:15 -0400 (Wed, 16 Oct 2024) EndedAt: 2024-10-16 21:02:04 -0400 (Wed, 16 Oct 2024) EllapsedTime: 168.4 seconds RetCode: 0 Status: OK PackageFile: SPIAT_1.6.2.tar.gz PackageFileSize: 6.705 MiB