Package: SPIAT Version: 1.6.2 Command: /Library/Frameworks/R.framework/Resources/bin/R CMD check --install=check:SPIAT.install-out.txt --library=/Library/Frameworks/R.framework/Resources/library --no-vignettes --timings SPIAT_1.6.2.tar.gz StartedAt: 2024-10-17 13:39:43 -0400 (Thu, 17 Oct 2024) EndedAt: 2024-10-17 13:52:55 -0400 (Thu, 17 Oct 2024) EllapsedTime: 792.0 seconds RetCode: 0 Status: OK CheckDir: SPIAT.Rcheck Warnings: 0