Package: SPIAT Version: 1.6.2 Command: rm -rf SPIAT.buildbin-libdir && mkdir SPIAT.buildbin-libdir && /Users/biocbuild/BBS/utils/build-universal.sh SPIAT_1.6.2.tar.gz /Library/Frameworks/R.framework/Resources/bin/R SPIAT.buildbin-libdir StartedAt: 2024-10-17 17:16:48 -0400 (Thu, 17 Oct 2024) EndedAt: 2024-10-17 17:18:05 -0400 (Thu, 17 Oct 2024) EllapsedTime: 76.6 seconds RetCode: 0 Status: OK PackageFile: SPIAT_1.6.2.tgz PackageFileSize: 6.902 MiB