Package: SPIAT Version: 1.6.2 Command: /Library/Frameworks/R.framework/Resources/bin/R CMD INSTALL SPIAT StartedAt: 2024-10-16 16:17:18 -0400 (Wed, 16 Oct 2024) EndedAt: 2024-10-16 16:17:52 -0400 (Wed, 16 Oct 2024) EllapsedTime: 34.0 seconds RetCode: 0 Status: OK