Package: SPIAT Version: 1.6.2 Command: /Library/Frameworks/R.framework/Resources/bin/R CMD build --keep-empty-dirs --no-resave-data SPIAT StartedAt: 2024-10-17 09:53:47 -0400 (Thu, 17 Oct 2024) EndedAt: 2024-10-17 09:57:28 -0400 (Thu, 17 Oct 2024) EllapsedTime: 221.5 seconds RetCode: 0 Status: OK PackageFile: SPIAT_1.6.2.tar.gz PackageFileSize: 7.175 MiB