Package: SPIA Version: 2.56.0 Command: F:\biocbuild\bbs-3.19-bioc\R\bin\R.exe CMD INSTALL SPIA StartedAt: 2024-06-26 16:00:07 -0400 (Wed, 26 Jun 2024) EndedAt: 2024-06-26 16:00:14 -0400 (Wed, 26 Jun 2024) EllapsedTime: 7.7 seconds RetCode: 0 Status: OK