Package: SPIA Version: 2.56.0 Command: /home/biocbuild/bbs-3.19-bioc/R/bin/R CMD build --keep-empty-dirs --no-resave-data SPIA StartedAt: 2024-10-16 20:59:15 -0400 (Wed, 16 Oct 2024) EndedAt: 2024-10-16 21:05:20 -0400 (Wed, 16 Oct 2024) EllapsedTime: 365.0 seconds RetCode: 0 Status: OK PackageFile: SPIA_2.56.0.tar.gz PackageFileSize: 2.448 MiB