Package: SPIA Version: 2.56.0 Command: /Library/Frameworks/R.framework/Resources/bin/R CMD check --install=check:SPIA.install-out.txt --library=/Library/Frameworks/R.framework/Resources/library --no-vignettes --timings SPIA_2.56.0.tar.gz StartedAt: 2024-10-17 13:39:29 -0400 (Thu, 17 Oct 2024) EndedAt: 2024-10-17 13:53:06 -0400 (Thu, 17 Oct 2024) EllapsedTime: 816.3 seconds RetCode: 0 Status: OK CheckDir: SPIA.Rcheck Warnings: 0