Package: SPIA Version: 2.56.0 Command: /home/biocbuild/R/R-beta-2024-04-15_r86425/bin/R CMD INSTALL SPIA StartedAt: 2024-05-08 20:07:33 -0000 (Wed, 08 May 2024) EndedAt: 2024-05-08 20:07:47 -0000 (Wed, 08 May 2024) EllapsedTime: 13.9 seconds RetCode: 0 Status: OK