Package: SPIA Version: 2.56.0 Command: /home/biocbuild/R/R-beta-2024-04-15_r86425/bin/R CMD check --install=check:SPIA.install-out.txt --library=/home/biocbuild/R/R-beta-2024-04-15_r86425/site-library --no-vignettes --timings SPIA_2.56.0.tar.gz StartedAt: 2024-05-08 12:14:33 -0000 (Wed, 08 May 2024) EndedAt: 2024-05-08 12:18:33 -0000 (Wed, 08 May 2024) EllapsedTime: 240.4 seconds RetCode: 0 Status: OK CheckDir: SPIA.Rcheck Warnings: 0