Package: SPIA Version: 2.56.0 Command: /home/biocbuild/R/R-beta-2024-04-15_r86425/bin/R CMD build --keep-empty-dirs --no-resave-data SPIA StartedAt: 2024-05-09 03:49:43 -0000 (Thu, 09 May 2024) EndedAt: 2024-05-09 03:53:35 -0000 (Thu, 09 May 2024) EllapsedTime: 232.3 seconds RetCode: 0 Status: OK PackageFile: SPIA_2.56.0.tar.gz PackageFileSize: 2.542 MiB