Package: SPIA Version: 2.56.0 Maintainer: Adi Laurentiu Tarca MaintainerEmail: atarca at med.wayne.edu git_url: https://git.bioconductor.org/packages/SPIA git_branch: RELEASE_3_19 git_last_commit: 9e6e892 git_last_commit_date: 2024-04-30 10:19:29 -0400 (Tue, 30 Apr 2024)