Package: SPEM Version: 1.44.0 Command: /home/biocbuild/bbs-3.19-bioc/R/bin/R CMD build --keep-empty-dirs --no-resave-data SPEM StartedAt: 2024-10-16 20:59:14 -0400 (Wed, 16 Oct 2024) EndedAt: 2024-10-16 20:59:21 -0400 (Wed, 16 Oct 2024) EllapsedTime: 7.0 seconds RetCode: 0 Status: OK PackageFile: SPEM_1.44.0.tar.gz PackageFileSize: 466.6 KiB