Package: SPEM Version: 1.44.0 Command: /home/biocbuild/R/R-beta-2024-04-15_r86425/bin/R CMD check --install=check:SPEM.install-out.txt --library=/home/biocbuild/R/R-beta-2024-04-15_r86425/site-library --no-vignettes --timings SPEM_1.44.0.tar.gz StartedAt: 2024-05-09 12:14:32 -0000 (Thu, 09 May 2024) EndedAt: 2024-05-09 12:15:28 -0000 (Thu, 09 May 2024) EllapsedTime: 56.1 seconds RetCode: 0 Status: OK CheckDir: SPEM.Rcheck Warnings: 0