Package: SPEM Version: 1.44.0 Command: /home/biocbuild/R/R-beta-2024-04-15_r86425/bin/R CMD build --keep-empty-dirs --no-resave-data SPEM StartedAt: 2024-05-09 03:49:39 -0000 (Thu, 09 May 2024) EndedAt: 2024-05-09 03:49:48 -0000 (Thu, 09 May 2024) EllapsedTime: 9.0 seconds RetCode: 0 Status: OK PackageFile: SPEM_1.44.0.tar.gz PackageFileSize: 587.4 KiB