Package: SPEM Version: 1.44.0 Command: rm -rf SPEM.buildbin-libdir && mkdir SPEM.buildbin-libdir && /Users/biocbuild/BBS/utils/build-universal.sh SPEM_1.44.0.tar.gz /Library/Frameworks/R.framework/Resources/bin/R SPEM.buildbin-libdir StartedAt: 2024-10-15 20:27:20 -0400 (Tue, 15 Oct 2024) EndedAt: 2024-10-15 20:27:27 -0400 (Tue, 15 Oct 2024) EllapsedTime: 7.0 seconds RetCode: 0 Status: OK PackageFile: SPEM_1.44.0.tgz PackageFileSize: 498.5 KiB