Package: SPEM Version: 1.44.0 Maintainer: Xinyi YANG MaintainerEmail: yangxinyi at picb.ac.cn git_url: https://git.bioconductor.org/packages/SPEM git_branch: RELEASE_3_19 git_last_commit: b2bcabd git_last_commit_date: 2024-04-30 10:31:02 -0400 (Tue, 30 Apr 2024)