Package: SOMNiBUS Version: 1.12.0 Command: chmod a+r SOMNiBUS -R && F:\biocbuild\bbs-3.19-bioc\R\bin\R.exe CMD build --keep-empty-dirs --no-resave-data SOMNiBUS StartedAt: 2024-06-26 22:04:19 -0400 (Wed, 26 Jun 2024) EndedAt: 2024-06-26 22:09:05 -0400 (Wed, 26 Jun 2024) EllapsedTime: 286.2 seconds RetCode: 0 Status: OK PackageFile: SOMNiBUS_1.12.0.tar.gz PackageFileSize: 1.002 MiB