Package: SOMNiBUS Version: 1.12.0 Command: /home/biocbuild/bbs-3.19-bioc/R/bin/R CMD INSTALL SOMNiBUS StartedAt: 2024-10-16 16:10:52 -0400 (Wed, 16 Oct 2024) EndedAt: 2024-10-16 16:11:37 -0400 (Wed, 16 Oct 2024) EllapsedTime: 45.6 seconds RetCode: 0 Status: OK