Package: SOMNiBUS Version: 1.12.0 Command: /Library/Frameworks/R.framework/Resources/bin/R CMD build --keep-empty-dirs --no-resave-data SOMNiBUS StartedAt: 2024-10-16 23:32:48 -0400 (Wed, 16 Oct 2024) EndedAt: 2024-10-16 23:40:28 -0400 (Wed, 16 Oct 2024) EllapsedTime: 460.0 seconds RetCode: 0 Status: OK PackageFile: SOMNiBUS_1.12.0.tar.gz PackageFileSize: 1.029 MiB