Package: SOMNiBUS Version: 1.12.0 Command: /Library/Frameworks/R.framework/Resources/bin/R CMD INSTALL SOMNiBUS StartedAt: 2024-10-16 16:49:49 -0400 (Wed, 16 Oct 2024) EndedAt: 2024-10-16 16:50:46 -0400 (Wed, 16 Oct 2024) EllapsedTime: 56.5 seconds RetCode: 0 Status: OK