Package: SOMNiBUS Version: 1.12.0 Command: /Library/Frameworks/R.framework/Resources/bin/R CMD check --install=check:SOMNiBUS.install-out.txt --library=/Library/Frameworks/R.framework/Resources/library --no-vignettes --timings SOMNiBUS_1.12.0.tar.gz StartedAt: 2024-10-18 13:03:05 -0400 (Fri, 18 Oct 2024) EndedAt: 2024-10-18 13:31:09 -0400 (Fri, 18 Oct 2024) EllapsedTime: 1684.4 seconds RetCode: 0 Status: OK CheckDir: SOMNiBUS.Rcheck Warnings: 0