Package: SNPhood Version: 1.34.0 Command: rm -rf SNPhood.buildbin-libdir && mkdir SNPhood.buildbin-libdir && E:\biocbuild\bbs-3.19-bioc\R\bin\R.exe CMD INSTALL --build --library=SNPhood.buildbin-libdir SNPhood_1.34.0.tar.gz StartedAt: 2024-10-17 08:40:51 -0400 (Thu, 17 Oct 2024) EndedAt: 2024-10-17 08:42:30 -0400 (Thu, 17 Oct 2024) EllapsedTime: 98.8 seconds RetCode: 0 Status: OK PackageFile: SNPhood_1.34.0.zip PackageFileSize: 6.862 MiB