Package: SNPhood Version: 1.34.0 Command: rm -rf SNPhood.buildbin-libdir && mkdir SNPhood.buildbin-libdir && /Users/biocbuild/BBS/utils/build-universal.sh SNPhood_1.34.0.tar.gz /Library/Frameworks/R.framework/Resources/bin/R SNPhood.buildbin-libdir StartedAt: 2024-10-15 20:23:49 -0400 (Tue, 15 Oct 2024) EndedAt: 2024-10-15 20:25:23 -0400 (Tue, 15 Oct 2024) EllapsedTime: 94.3 seconds RetCode: 0 Status: OK PackageFile: SNPhood_1.34.0.tgz PackageFileSize: 8.651 MiB