Package: SNPediaR Version: 1.30.0 Command: E:\biocbuild\bbs-3.19-bioc\R\bin\R.exe CMD INSTALL SNPediaR StartedAt: 2024-10-16 16:06:30 -0400 (Wed, 16 Oct 2024) EndedAt: 2024-10-16 16:06:36 -0400 (Wed, 16 Oct 2024) EllapsedTime: 6.0 seconds RetCode: 0 Status: OK