Package: SNPediaR Version: 1.30.0 Command: chmod a+r SNPediaR -R && E:\biocbuild\bbs-3.19-bioc\R\bin\R.exe CMD build --keep-empty-dirs --no-resave-data SNPediaR StartedAt: 2024-10-16 22:03:28 -0400 (Wed, 16 Oct 2024) EndedAt: 2024-10-16 22:03:35 -0400 (Wed, 16 Oct 2024) EllapsedTime: 6.3 seconds RetCode: 1 Status: ERROR PackageFile: None PackageFileSize: NA