Package: SNPediaR Version: 1.30.0 Command: F:\biocbuild\bbs-3.19-bioc\R\bin\R.exe CMD INSTALL SNPediaR StartedAt: 2024-06-26 15:45:36 -0400 (Wed, 26 Jun 2024) EndedAt: 2024-06-26 15:46:05 -0400 (Wed, 26 Jun 2024) EllapsedTime: 28.9 seconds RetCode: 0 Status: OK