Package: SNPediaR Version: 1.30.0 Command: /home/biocbuild/bbs-3.19-bioc/R/bin/R CMD build --keep-empty-dirs --no-resave-data SNPediaR StartedAt: 2024-10-16 20:55:12 -0400 (Wed, 16 Oct 2024) EndedAt: 2024-10-16 20:55:20 -0400 (Wed, 16 Oct 2024) EllapsedTime: 8.0 seconds RetCode: 0 Status: OK PackageFile: SNPediaR_1.30.0.tar.gz PackageFileSize: 230.5 KiB