Package: SNPediaR Version: 1.30.0 Command: /Library/Frameworks/R.framework/Resources/bin/R CMD INSTALL SNPediaR StartedAt: 2024-10-16 15:12:24 -0400 (Wed, 16 Oct 2024) EndedAt: 2024-10-16 15:12:54 -0400 (Wed, 16 Oct 2024) EllapsedTime: 30.9 seconds RetCode: 0 Status: OK