Package: SNPediaR Version: 1.30.0 Command: /Library/Frameworks/R.framework/Resources/bin/R CMD build --keep-empty-dirs --no-resave-data SNPediaR StartedAt: 2024-10-16 23:31:24 -0400 (Wed, 16 Oct 2024) EndedAt: 2024-10-16 23:31:41 -0400 (Wed, 16 Oct 2024) EllapsedTime: 16.8 seconds RetCode: 0 Status: OK PackageFile: SNPediaR_1.30.0.tar.gz PackageFileSize: 230.4 KiB