Package: SNPediaR Version: 1.30.0 Command: /home/biocbuild/R/R-beta-2024-04-15_r86425/bin/R CMD build --keep-empty-dirs --no-resave-data SNPediaR StartedAt: 2024-05-09 03:43:52 -0000 (Thu, 09 May 2024) EndedAt: 2024-05-09 03:44:06 -0000 (Thu, 09 May 2024) EllapsedTime: 14.0 seconds RetCode: 0 Status: OK PackageFile: SNPediaR_1.30.0.tar.gz PackageFileSize: 254.8 KiB