Package: SNPediaR Version: 1.30.0 Command: /Library/Frameworks/R.framework/Resources/bin/R CMD check --install=check:SNPediaR.install-out.txt --library=/Library/Frameworks/R.framework/Resources/library --no-vignettes --timings SNPediaR_1.30.0.tar.gz StartedAt: 2024-06-11 06:17:51 -0400 (Tue, 11 Jun 2024) EndedAt: 2024-06-11 06:18:47 -0400 (Tue, 11 Jun 2024) EllapsedTime: 56.0 seconds RetCode: 0 Status: OK CheckDir: SNPediaR.Rcheck Warnings: 0