Package: SNAGEE Version: 1.44.0 Command: chmod a+r SNAGEE -R && F:\biocbuild\bbs-3.19-bioc\R\bin\R.exe CMD build --keep-empty-dirs --no-resave-data SNAGEE StartedAt: 2024-06-26 22:02:54 -0400 (Wed, 26 Jun 2024) EndedAt: 2024-06-26 22:03:44 -0400 (Wed, 26 Jun 2024) EllapsedTime: 50.6 seconds RetCode: 0 Status: OK PackageFile: SNAGEE_1.44.0.tar.gz PackageFileSize: 72.46 KiB