Package: SNAGEE Version: 1.44.0 Command: rm -rf SNAGEE.buildbin-libdir && mkdir SNAGEE.buildbin-libdir && F:\biocbuild\bbs-3.19-bioc\R\bin\R.exe CMD INSTALL --build --library=SNAGEE.buildbin-libdir SNAGEE_1.44.0.tar.gz StartedAt: 2024-06-27 08:57:21 -0400 (Thu, 27 Jun 2024) EndedAt: 2024-06-27 08:57:25 -0400 (Thu, 27 Jun 2024) EllapsedTime: 4.3 seconds RetCode: 0 Status: OK PackageFile: SNAGEE_1.44.0.zip PackageFileSize: 92.8 KiB