Package: SNAGEE Version: 1.44.0 Command: /Library/Frameworks/R.framework/Resources/bin/R CMD build --keep-empty-dirs --no-resave-data SNAGEE StartedAt: 2024-10-16 23:30:24 -0400 (Wed, 16 Oct 2024) EndedAt: 2024-10-16 23:31:49 -0400 (Wed, 16 Oct 2024) EllapsedTime: 84.1 seconds RetCode: 0 Status: OK PackageFile: SNAGEE_1.44.0.tar.gz PackageFileSize: 169.3 KiB