Package: SMITE Version: 1.32.0 Command: /Library/Frameworks/R.framework/Resources/bin/R CMD check --install=check:SMITE.install-out.txt --library=/Library/Frameworks/R.framework/Resources/library --no-vignettes --timings SMITE_1.32.0.tar.gz StartedAt: 2024-10-17 13:25:41 -0400 (Thu, 17 Oct 2024) EndedAt: 2024-10-17 13:37:18 -0400 (Thu, 17 Oct 2024) EllapsedTime: 697.2 seconds RetCode: 0 Status: OK CheckDir: SMITE.Rcheck Warnings: 0