Package: SMAP Version: 1.68.0 Command: chmod a+r SMAP -R && E:\biocbuild\bbs-3.19-bioc\R\bin\R.exe CMD build --keep-empty-dirs --no-resave-data SMAP StartedAt: 2024-10-16 22:02:42 -0400 (Wed, 16 Oct 2024) EndedAt: 2024-10-16 22:03:20 -0400 (Wed, 16 Oct 2024) EllapsedTime: 37.7 seconds RetCode: 0 Status: OK PackageFile: SMAP_1.68.0.tar.gz PackageFileSize: 4.252 MiB