Package: SMAP Version: 1.68.0 Command: /home/biocbuild/bbs-3.19-bioc/R/bin/R CMD build --keep-empty-dirs --no-resave-data SMAP StartedAt: 2024-10-16 20:54:29 -0400 (Wed, 16 Oct 2024) EndedAt: 2024-10-16 20:54:45 -0400 (Wed, 16 Oct 2024) EllapsedTime: 16.0 seconds RetCode: 0 Status: OK PackageFile: SMAP_1.68.0.tar.gz PackageFileSize: 4.249 MiB