Package: SMAD Version: 1.20.0 Command: /Library/Frameworks/R.framework/Resources/bin/R CMD build --keep-empty-dirs --no-resave-data SMAD StartedAt: 2024-10-17 09:34:35 -0400 (Thu, 17 Oct 2024) EndedAt: 2024-10-17 09:35:00 -0400 (Thu, 17 Oct 2024) EllapsedTime: 24.6 seconds RetCode: 0 Status: OK PackageFile: SMAD_1.20.0.tar.gz PackageFileSize: 397 KiB