Package: SMAD Version: 1.20.0 Maintainer: Qingzhou Zhang MaintainerEmail: zqzneptune at hotmail.com git_url: https://git.bioconductor.org/packages/SMAD git_branch: RELEASE_3_19 git_last_commit: 9ac2533 git_last_commit_date: 2024-04-30 11:12:12 -0400 (Tue, 30 Apr 2024)