Package: SLqPCR Version: 1.70.0 Command: /home/biocbuild/bbs-3.19-bioc/R/bin/R CMD INSTALL SLqPCR StartedAt: 2024-10-16 15:49:14 -0400 (Wed, 16 Oct 2024) EndedAt: 2024-10-16 15:49:15 -0400 (Wed, 16 Oct 2024) EllapsedTime: 1.6 seconds RetCode: 0 Status: OK