Package: SLqPCR Version: 1.70.0 Command: /home/biocbuild/bbs-3.19-bioc/R/bin/R CMD check --install=check:SLqPCR.install-out.txt --library=/home/biocbuild/bbs-3.19-bioc/R/site-library --timings SLqPCR_1.70.0.tar.gz StartedAt: 2024-10-17 05:16:03 -0400 (Thu, 17 Oct 2024) EndedAt: 2024-10-17 05:16:20 -0400 (Thu, 17 Oct 2024) EllapsedTime: 17.0 seconds RetCode: 0 Status: OK CheckDir: SLqPCR.Rcheck Warnings: 0