Package: SLqPCR Version: 1.70.0 Command: /home/biocbuild/bbs-3.19-bioc/R/bin/R CMD build --keep-empty-dirs --no-resave-data SLqPCR StartedAt: 2024-10-16 20:54:24 -0400 (Wed, 16 Oct 2024) EndedAt: 2024-10-16 20:54:29 -0400 (Wed, 16 Oct 2024) EllapsedTime: 5.0 seconds RetCode: 0 Status: OK PackageFile: SLqPCR_1.70.0.tar.gz PackageFileSize: 120.4 KiB