Package: SLqPCR Version: 1.70.0 Command: /Library/Frameworks/R.framework/Resources/bin/R CMD check --install=check:SLqPCR.install-out.txt --library=/Library/Frameworks/R.framework/Resources/library --no-vignettes --timings SLqPCR_1.70.0.tar.gz StartedAt: 2024-10-17 13:23:30 -0400 (Thu, 17 Oct 2024) EndedAt: 2024-10-17 13:24:09 -0400 (Thu, 17 Oct 2024) EllapsedTime: 38.5 seconds RetCode: 0 Status: OK CheckDir: SLqPCR.Rcheck Warnings: 0